BEGIN:VCALENDAR
VERSION:2.0
PRODID:-//My Calendar//http://www.joedolson.com//v3.1.7//EN
METHOD:PUBLISH
CALSCALE:GREGORIAN
X-WR-CALNAME:studstrup.dk
X-PUBLISHED-TTL:PT24H
REFRESH-INTERVAL;VALUE=DURATION:PT24H
X-WR-CALDESC:Events from studstrup.dk
BEGIN:VEVENT
UID:44-4
LOCATION:
SUMMARY:Workshop om Lokale Netværk og Grøn Energi i Aarhus
DTSTAMP:20140902T173000
ORGANIZER;CN=Kristian Helkjær Lassen:MAILTO:kristian.helkjaer.lassen@gmail.com
DTSTART;TZID=Europe/Copenhagen:20140902T173000
DTEND;TZID=Europe/Copenhagen:20140902T190000
URL;VALUE=URI:http://www.studstrup.dk/kalender/
DESCRIPTION:Endelig dato og sted besluttes i August. 
CATEGORIES:General
END:VEVENT
BEGIN:VEVENT
UID:45-4
LOCATION:
SUMMARY:Workshop om Lokale Netværk og Grøn Energi i Aarhus
DTSTAMP:20140903T173000
ORGANIZER;CN=Kristian Helkjær Lassen:MAILTO:kristian.helkjaer.lassen@gmail.com
DTSTART;TZID=Europe/Copenhagen:20140903T173000
DTEND;TZID=Europe/Copenhagen:20140903T190000
URL;VALUE=URI:http://www.studstrup.dk/kalender/
DESCRIPTION:Endelig dato og sted besluttes i August. 
CATEGORIES:General
END:VEVENT
BEGIN:VEVENT
UID:43-3
LOCATION:Fiskerhøj   Skødstrup  8541
SUMMARY:Sommerweekend
DTSTAMP:20140815T000000
ORGANIZER;CN=Kristian Helkjær Lassen:MAILTO:kristian.helkjaer.lassen@gmail.com
DTSTART;TZID=Europe/Copenhagen:20140815T000000
DTEND;TZID=Europe/Copenhagen:20140818T000000
URL;VALUE=URI:http://www.studstrup.dk/2014/07/06/invitation-til-sommer-weekend/
DESCRIPTION: http://www.studstrup.dk/2014/07/06/invitation-til-sommer-weekend/
CATEGORIES:General
END:VEVENT
BEGIN:VEVENT
UID:46-2
LOCATION:Kaløvigskolens Gymnastiksal Sanatorievej 38  Skødstrup  8541
SUMMARY:Krop & Balance træning for voksne
DTSTAMP:20140918T190000
ORGANIZER;CN=Kristian Helkjær Lassen:MAILTO:kristian.helkjaer.lassen@gmail.com
DTSTART;TZID=Europe/Copenhagen:20140918T190000
DTEND;TZID=Europe/Copenhagen:20140918T200000
URL;VALUE=URI:http://www.studstrup.dk/2014/08/06/ny-saeson-for-krop-balance-og-for-ryghold-for-herrer-i-kaloevig-hallen-til-september/
DESCRIPTION: http://www.studstrup.dk/2014/08/06/ny-saeson-for-krop-balance-og-for-ryghold-for-herrer-i-kaloevig-hallen-til-september/
CATEGORIES:General
END:VEVENT
BEGIN:VEVENT
UID:47-2
LOCATION:Kaløvigskolens Gymnastiksal Sanatorievej 38  Skødstrup  8541
SUMMARY:Krop & Balance træning for voksne
DTSTAMP:20140925T190000
ORGANIZER;CN=Kristian Helkjær Lassen:MAILTO:kristian.helkjaer.lassen@gmail.com
DTSTART;TZID=Europe/Copenhagen:20140925T190000
DTEND;TZID=Europe/Copenhagen:20140925T200000
URL;VALUE=URI:http://www.studstrup.dk/2014/08/06/ny-saeson-for-krop-balance-og-for-ryghold-for-herrer-i-kaloevig-hallen-til-september/
DESCRIPTION: http://www.studstrup.dk/2014/08/06/ny-saeson-for-krop-balance-og-for-ryghold-for-herrer-i-kaloevig-hallen-til-september/
CATEGORIES:General
END:VEVENT
BEGIN:VEVENT
UID:48-2
LOCATION:Kaløvigskolens Gymnastiksal Sanatorievej 38  Skødstrup  8541
SUMMARY:Krop & Balance træning for voksne
DTSTAMP:20141002T190000
ORGANIZER;CN=Kristian Helkjær Lassen:MAILTO:kristian.helkjaer.lassen@gmail.com
DTSTART;TZID=Europe/Copenhagen:20141002T190000
DTEND;TZID=Europe/Copenhagen:20141002T200000
URL;VALUE=URI:http://www.studstrup.dk/2014/08/06/ny-saeson-for-krop-balance-og-for-ryghold-for-herrer-i-kaloevig-hallen-til-september/
DESCRIPTION: http://www.studstrup.dk/2014/08/06/ny-saeson-for-krop-balance-og-for-ryghold-for-herrer-i-kaloevig-hallen-til-september/
CATEGORIES:General
END:VEVENT
BEGIN:VEVENT
UID:49-2
LOCATION:Kaløvigskolens Gymnastiksal Sanatorievej 38  Skødstrup  8541
SUMMARY:Krop & Balance træning for voksne
DTSTAMP:20141009T190000
ORGANIZER;CN=Kristian Helkjær Lassen:MAILTO:kristian.helkjaer.lassen@gmail.com
DTSTART;TZID=Europe/Copenhagen:20141009T190000
DTEND;TZID=Europe/Copenhagen:20141009T200000
URL;VALUE=URI:http://www.studstrup.dk/2014/08/06/ny-saeson-for-krop-balance-og-for-ryghold-for-herrer-i-kaloevig-hallen-til-september/
DESCRIPTION: http://www.studstrup.dk/2014/08/06/ny-saeson-for-krop-balance-og-for-ryghold-for-herrer-i-kaloevig-hallen-til-september/
CATEGORIES:General
END:VEVENT
BEGIN:VEVENT
UID:50-2
LOCATION:Kaløvigskolens Gymnastiksal Sanatorievej 38  Skødstrup  8541
SUMMARY:Krop & Balance træning for voksne
DTSTAMP:20141016T190000
ORGANIZER;CN=Kristian Helkjær Lassen:MAILTO:kristian.helkjaer.lassen@gmail.com
DTSTART;TZID=Europe/Copenhagen:20141016T190000
DTEND;TZID=Europe/Copenhagen:20141016T200000
URL;VALUE=URI:http://www.studstrup.dk/2014/08/06/ny-saeson-for-krop-balance-og-for-ryghold-for-herrer-i-kaloevig-hallen-til-september/
DESCRIPTION: http://www.studstrup.dk/2014/08/06/ny-saeson-for-krop-balance-og-for-ryghold-for-herrer-i-kaloevig-hallen-til-september/
CATEGORIES:General
END:VEVENT
BEGIN:VEVENT
UID:51-2
LOCATION:Kaløvigskolens Gymnastiksal Sanatorievej 38  Skødstrup  8541
SUMMARY:Krop & Balance træning for voksne
DTSTAMP:20141023T190000
ORGANIZER;CN=Kristian Helkjær Lassen:MAILTO:kristian.helkjaer.lassen@gmail.com
DTSTART;TZID=Europe/Copenhagen:20141023T190000
DTEND;TZID=Europe/Copenhagen:20141023T200000
URL;VALUE=URI:http://www.studstrup.dk/2014/08/06/ny-saeson-for-krop-balance-og-for-ryghold-for-herrer-i-kaloevig-hallen-til-september/
DESCRIPTION: http://www.studstrup.dk/2014/08/06/ny-saeson-for-krop-balance-og-for-ryghold-for-herrer-i-kaloevig-hallen-til-september/
CATEGORIES:General
END:VEVENT
BEGIN:VEVENT
UID:52-2
LOCATION:Kaløvigskolens Gymnastiksal Sanatorievej 38  Skødstrup  8541
SUMMARY:Krop & Balance træning for voksne
DTSTAMP:20141030T190000
ORGANIZER;CN=Kristian Helkjær Lassen:MAILTO:kristian.helkjaer.lassen@gmail.com
DTSTART;TZID=Europe/Copenhagen:20141030T190000
DTEND;TZID=Europe/Copenhagen:20141030T200000
URL;VALUE=URI:http://www.studstrup.dk/2014/08/06/ny-saeson-for-krop-balance-og-for-ryghold-for-herrer-i-kaloevig-hallen-til-september/
DESCRIPTION: http://www.studstrup.dk/2014/08/06/ny-saeson-for-krop-balance-og-for-ryghold-for-herrer-i-kaloevig-hallen-til-september/
CATEGORIES:General
END:VEVENT
BEGIN:VEVENT
UID:53-2
LOCATION:Kaløvigskolens Gymnastiksal Sanatorievej 38  Skødstrup  8541
SUMMARY:Krop & Balance træning for voksne
DTSTAMP:20141106T190000
ORGANIZER;CN=Kristian Helkjær Lassen:MAILTO:kristian.helkjaer.lassen@gmail.com
DTSTART;TZID=Europe/Copenhagen:20141106T190000
DTEND;TZID=Europe/Copenhagen:20141106T200000
URL;VALUE=URI:http://www.studstrup.dk/2014/08/06/ny-saeson-for-krop-balance-og-for-ryghold-for-herrer-i-kaloevig-hallen-til-september/
DESCRIPTION: http://www.studstrup.dk/2014/08/06/ny-saeson-for-krop-balance-og-for-ryghold-for-herrer-i-kaloevig-hallen-til-september/
CATEGORIES:General
END:VEVENT
BEGIN:VEVENT
UID:54-2
LOCATION:Kaløvigskolens Gymnastiksal Sanatorievej 38  Skødstrup  8541
SUMMARY:Krop & Balance træning for voksne
DTSTAMP:20141113T190000
ORGANIZER;CN=Kristian Helkjær Lassen:MAILTO:kristian.helkjaer.lassen@gmail.com
DTSTART;TZID=Europe/Copenhagen:20141113T190000
DTEND;TZID=Europe/Copenhagen:20141113T200000
URL;VALUE=URI:http://www.studstrup.dk/2014/08/06/ny-saeson-for-krop-balance-og-for-ryghold-for-herrer-i-kaloevig-hallen-til-september/
DESCRIPTION: http://www.studstrup.dk/2014/08/06/ny-saeson-for-krop-balance-og-for-ryghold-for-herrer-i-kaloevig-hallen-til-september/
CATEGORIES:General
END:VEVENT
BEGIN:VEVENT
UID:55-2
LOCATION:Kaløvigskolens Gymnastiksal Sanatorievej 38  Skødstrup  8541
SUMMARY:Krop & Balance træning for voksne
DTSTAMP:20141120T190000
ORGANIZER;CN=Kristian Helkjær Lassen:MAILTO:kristian.helkjaer.lassen@gmail.com
DTSTART;TZID=Europe/Copenhagen:20141120T190000
DTEND;TZID=Europe/Copenhagen:20141120T200000
URL;VALUE=URI:http://www.studstrup.dk/2014/08/06/ny-saeson-for-krop-balance-og-for-ryghold-for-herrer-i-kaloevig-hallen-til-september/
DESCRIPTION: http://www.studstrup.dk/2014/08/06/ny-saeson-for-krop-balance-og-for-ryghold-for-herrer-i-kaloevig-hallen-til-september/
CATEGORIES:General
END:VEVENT
BEGIN:VEVENT
UID:56-2
LOCATION:Kaløvigskolens Gymnastiksal Sanatorievej 38  Skødstrup  8541
SUMMARY:Krop & Balance træning for voksne
DTSTAMP:20141127T190000
ORGANIZER;CN=Kristian Helkjær Lassen:MAILTO:kristian.helkjaer.lassen@gmail.com
DTSTART;TZID=Europe/Copenhagen:20141127T190000
DTEND;TZID=Europe/Copenhagen:20141127T200000
URL;VALUE=URI:http://www.studstrup.dk/2014/08/06/ny-saeson-for-krop-balance-og-for-ryghold-for-herrer-i-kaloevig-hallen-til-september/
DESCRIPTION: http://www.studstrup.dk/2014/08/06/ny-saeson-for-krop-balance-og-for-ryghold-for-herrer-i-kaloevig-hallen-til-september/
CATEGORIES:General
END:VEVENT
BEGIN:VEVENT
UID:57-2
LOCATION:Kaløvigskolens Gymnastiksal Sanatorievej 38  Skødstrup  8541
SUMMARY:Krop & Balance træning for voksne
DTSTAMP:20141204T190000
ORGANIZER;CN=Kristian Helkjær Lassen:MAILTO:kristian.helkjaer.lassen@gmail.com
DTSTART;TZID=Europe/Copenhagen:20141204T190000
DTEND;TZID=Europe/Copenhagen:20141204T200000
URL;VALUE=URI:http://www.studstrup.dk/2014/08/06/ny-saeson-for-krop-balance-og-for-ryghold-for-herrer-i-kaloevig-hallen-til-september/
DESCRIPTION: http://www.studstrup.dk/2014/08/06/ny-saeson-for-krop-balance-og-for-ryghold-for-herrer-i-kaloevig-hallen-til-september/
CATEGORIES:General
END:VEVENT
BEGIN:VEVENT
UID:58-2
LOCATION:Kaløvigskolens Gymnastiksal Sanatorievej 38  Skødstrup  8541
SUMMARY:Krop & Balance træning for voksne
DTSTAMP:20141211T190000
ORGANIZER;CN=Kristian Helkjær Lassen:MAILTO:kristian.helkjaer.lassen@gmail.com
DTSTART;TZID=Europe/Copenhagen:20141211T190000
DTEND;TZID=Europe/Copenhagen:20141211T200000
URL;VALUE=URI:http://www.studstrup.dk/2014/08/06/ny-saeson-for-krop-balance-og-for-ryghold-for-herrer-i-kaloevig-hallen-til-september/
DESCRIPTION: http://www.studstrup.dk/2014/08/06/ny-saeson-for-krop-balance-og-for-ryghold-for-herrer-i-kaloevig-hallen-til-september/
CATEGORIES:General
END:VEVENT
BEGIN:VEVENT
UID:59-2
LOCATION:Kaløvigskolens Gymnastiksal Sanatorievej 38  Skødstrup  8541
SUMMARY:Krop & Balance træning for voksne
DTSTAMP:20141218T190000
ORGANIZER;CN=Kristian Helkjær Lassen:MAILTO:kristian.helkjaer.lassen@gmail.com
DTSTART;TZID=Europe/Copenhagen:20141218T190000
DTEND;TZID=Europe/Copenhagen:20141218T200000
URL;VALUE=URI:http://www.studstrup.dk/2014/08/06/ny-saeson-for-krop-balance-og-for-ryghold-for-herrer-i-kaloevig-hallen-til-september/
DESCRIPTION: http://www.studstrup.dk/2014/08/06/ny-saeson-for-krop-balance-og-for-ryghold-for-herrer-i-kaloevig-hallen-til-september/
CATEGORIES:General
END:VEVENT
BEGIN:VEVENT
UID:60-2
LOCATION:Kaløvigskolens Gymnastiksal Sanatorievej 38  Skødstrup  8541
SUMMARY:Krop & Balance træning for voksne
DTSTAMP:20141225T190000
ORGANIZER;CN=Kristian Helkjær Lassen:MAILTO:kristian.helkjaer.lassen@gmail.com
DTSTART;TZID=Europe/Copenhagen:20141225T190000
DTEND;TZID=Europe/Copenhagen:20141225T200000
URL;VALUE=URI:http://www.studstrup.dk/2014/08/06/ny-saeson-for-krop-balance-og-for-ryghold-for-herrer-i-kaloevig-hallen-til-september/
DESCRIPTION: http://www.studstrup.dk/2014/08/06/ny-saeson-for-krop-balance-og-for-ryghold-for-herrer-i-kaloevig-hallen-til-september/
CATEGORIES:General
END:VEVENT
BEGIN:VEVENT
UID:61-2
LOCATION:Kaløvigskolens Gymnastiksal Sanatorievej 38  Skødstrup  8541
SUMMARY:Krop & Balance træning for voksne
DTSTAMP:20150101T190000
ORGANIZER;CN=Kristian Helkjær Lassen:MAILTO:kristian.helkjaer.lassen@gmail.com
DTSTART;TZID=Europe/Copenhagen:20150101T190000
DTEND;TZID=Europe/Copenhagen:20150101T200000
URL;VALUE=URI:http://www.studstrup.dk/2014/08/06/ny-saeson-for-krop-balance-og-for-ryghold-for-herrer-i-kaloevig-hallen-til-september/
DESCRIPTION: http://www.studstrup.dk/2014/08/06/ny-saeson-for-krop-balance-og-for-ryghold-for-herrer-i-kaloevig-hallen-til-september/
CATEGORIES:General
END:VEVENT
BEGIN:VEVENT
UID:62-2
LOCATION:Kaløvigskolens Gymnastiksal Sanatorievej 38  Skødstrup  8541
SUMMARY:Krop & Balance træning for voksne
DTSTAMP:20150108T190000
ORGANIZER;CN=Kristian Helkjær Lassen:MAILTO:kristian.helkjaer.lassen@gmail.com
DTSTART;TZID=Europe/Copenhagen:20150108T190000
DTEND;TZID=Europe/Copenhagen:20150108T200000
URL;VALUE=URI:http://www.studstrup.dk/2014/08/06/ny-saeson-for-krop-balance-og-for-ryghold-for-herrer-i-kaloevig-hallen-til-september/
DESCRIPTION: http://www.studstrup.dk/2014/08/06/ny-saeson-for-krop-balance-og-for-ryghold-for-herrer-i-kaloevig-hallen-til-september/
CATEGORIES:General
END:VEVENT
BEGIN:VEVENT
UID:63-2
LOCATION:Kaløvigskolens Gymnastiksal Sanatorievej 38  Skødstrup  8541
SUMMARY:Krop & Balance træning for voksne
DTSTAMP:20150115T190000
ORGANIZER;CN=Kristian Helkjær Lassen:MAILTO:kristian.helkjaer.lassen@gmail.com
DTSTART;TZID=Europe/Copenhagen:20150115T190000
DTEND;TZID=Europe/Copenhagen:20150115T200000
URL;VALUE=URI:http://www.studstrup.dk/2014/08/06/ny-saeson-for-krop-balance-og-for-ryghold-for-herrer-i-kaloevig-hallen-til-september/
DESCRIPTION: http://www.studstrup.dk/2014/08/06/ny-saeson-for-krop-balance-og-for-ryghold-for-herrer-i-kaloevig-hallen-til-september/
CATEGORIES:General
END:VEVENT
BEGIN:VEVENT
UID:64-2
LOCATION:Kaløvigskolens Gymnastiksal Sanatorievej 38  Skødstrup  8541
SUMMARY:Krop & Balance træning for voksne
DTSTAMP:20150122T190000
ORGANIZER;CN=Kristian Helkjær Lassen:MAILTO:kristian.helkjaer.lassen@gmail.com
DTSTART;TZID=Europe/Copenhagen:20150122T190000
DTEND;TZID=Europe/Copenhagen:20150122T200000
URL;VALUE=URI:http://www.studstrup.dk/2014/08/06/ny-saeson-for-krop-balance-og-for-ryghold-for-herrer-i-kaloevig-hallen-til-september/
DESCRIPTION: http://www.studstrup.dk/2014/08/06/ny-saeson-for-krop-balance-og-for-ryghold-for-herrer-i-kaloevig-hallen-til-september/
CATEGORIES:General
END:VEVENT
BEGIN:VEVENT
UID:65-2
LOCATION:Kaløvigskolens Gymnastiksal Sanatorievej 38  Skødstrup  8541
SUMMARY:Krop & Balance træning for voksne
DTSTAMP:20150129T190000
ORGANIZER;CN=Kristian Helkjær Lassen:MAILTO:kristian.helkjaer.lassen@gmail.com
DTSTART;TZID=Europe/Copenhagen:20150129T190000
DTEND;TZID=Europe/Copenhagen:20150129T200000
URL;VALUE=URI:http://www.studstrup.dk/2014/08/06/ny-saeson-for-krop-balance-og-for-ryghold-for-herrer-i-kaloevig-hallen-til-september/
DESCRIPTION: http://www.studstrup.dk/2014/08/06/ny-saeson-for-krop-balance-og-for-ryghold-for-herrer-i-kaloevig-hallen-til-september/
CATEGORIES:General
END:VEVENT
BEGIN:VEVENT
UID:66-2
LOCATION:Kaløvigskolens Gymnastiksal Sanatorievej 38  Skødstrup  8541
SUMMARY:Krop & Balance træning for voksne
DTSTAMP:20150205T190000
ORGANIZER;CN=Kristian Helkjær Lassen:MAILTO:kristian.helkjaer.lassen@gmail.com
DTSTART;TZID=Europe/Copenhagen:20150205T190000
DTEND;TZID=Europe/Copenhagen:20150205T200000
URL;VALUE=URI:http://www.studstrup.dk/2014/08/06/ny-saeson-for-krop-balance-og-for-ryghold-for-herrer-i-kaloevig-hallen-til-september/
DESCRIPTION: http://www.studstrup.dk/2014/08/06/ny-saeson-for-krop-balance-og-for-ryghold-for-herrer-i-kaloevig-hallen-til-september/
CATEGORIES:General
END:VEVENT
BEGIN:VEVENT
UID:67-2
LOCATION:Kaløvigskolens Gymnastiksal Sanatorievej 38  Skødstrup  8541
SUMMARY:Krop & Balance træning for voksne
DTSTAMP:20150212T190000
ORGANIZER;CN=Kristian Helkjær Lassen:MAILTO:kristian.helkjaer.lassen@gmail.com
DTSTART;TZID=Europe/Copenhagen:20150212T190000
DTEND;TZID=Europe/Copenhagen:20150212T200000
URL;VALUE=URI:http://www.studstrup.dk/2014/08/06/ny-saeson-for-krop-balance-og-for-ryghold-for-herrer-i-kaloevig-hallen-til-september/
DESCRIPTION: http://www.studstrup.dk/2014/08/06/ny-saeson-for-krop-balance-og-for-ryghold-for-herrer-i-kaloevig-hallen-til-september/
CATEGORIES:General
END:VEVENT
BEGIN:VEVENT
UID:68-2
LOCATION:Kaløvigskolens Gymnastiksal Sanatorievej 38  Skødstrup  8541
SUMMARY:Krop & Balance træning for voksne
DTSTAMP:20150219T190000
ORGANIZER;CN=Kristian Helkjær Lassen:MAILTO:kristian.helkjaer.lassen@gmail.com
DTSTART;TZID=Europe/Copenhagen:20150219T190000
DTEND;TZID=Europe/Copenhagen:20150219T200000
URL;VALUE=URI:http://www.studstrup.dk/2014/08/06/ny-saeson-for-krop-balance-og-for-ryghold-for-herrer-i-kaloevig-hallen-til-september/
DESCRIPTION: http://www.studstrup.dk/2014/08/06/ny-saeson-for-krop-balance-og-for-ryghold-for-herrer-i-kaloevig-hallen-til-september/
CATEGORIES:General
END:VEVENT
BEGIN:VEVENT
UID:69-2
LOCATION:Kaløvigskolens Gymnastiksal Sanatorievej 38  Skødstrup  8541
SUMMARY:Krop & Balance træning for voksne
DTSTAMP:20150226T190000
ORGANIZER;CN=Kristian Helkjær Lassen:MAILTO:kristian.helkjaer.lassen@gmail.com
DTSTART;TZID=Europe/Copenhagen:20150226T190000
DTEND;TZID=Europe/Copenhagen:20150226T200000
URL;VALUE=URI:http://www.studstrup.dk/2014/08/06/ny-saeson-for-krop-balance-og-for-ryghold-for-herrer-i-kaloevig-hallen-til-september/
DESCRIPTION: http://www.studstrup.dk/2014/08/06/ny-saeson-for-krop-balance-og-for-ryghold-for-herrer-i-kaloevig-hallen-til-september/
CATEGORIES:General
END:VEVENT
BEGIN:VEVENT
UID:70-2
LOCATION:Kaløvigskolens Gymnastiksal Sanatorievej 38  Skødstrup  8541
SUMMARY:Krop & Balance træning for voksne
DTSTAMP:20150305T190000
ORGANIZER;CN=Kristian Helkjær Lassen:MAILTO:kristian.helkjaer.lassen@gmail.com
DTSTART;TZID=Europe/Copenhagen:20150305T190000
DTEND;TZID=Europe/Copenhagen:20150305T200000
URL;VALUE=URI:http://www.studstrup.dk/2014/08/06/ny-saeson-for-krop-balance-og-for-ryghold-for-herrer-i-kaloevig-hallen-til-september/
DESCRIPTION: http://www.studstrup.dk/2014/08/06/ny-saeson-for-krop-balance-og-for-ryghold-for-herrer-i-kaloevig-hallen-til-september/
CATEGORIES:General
END:VEVENT
BEGIN:VEVENT
UID:71-2
LOCATION:Kaløvigskolens Gymnastiksal Sanatorievej 38  Skødstrup  8541
SUMMARY:Krop & Balance træning for voksne
DTSTAMP:20150312T190000
ORGANIZER;CN=Kristian Helkjær Lassen:MAILTO:kristian.helkjaer.lassen@gmail.com
DTSTART;TZID=Europe/Copenhagen:20150312T190000
DTEND;TZID=Europe/Copenhagen:20150312T200000
URL;VALUE=URI:http://www.studstrup.dk/2014/08/06/ny-saeson-for-krop-balance-og-for-ryghold-for-herrer-i-kaloevig-hallen-til-september/
DESCRIPTION: http://www.studstrup.dk/2014/08/06/ny-saeson-for-krop-balance-og-for-ryghold-for-herrer-i-kaloevig-hallen-til-september/
CATEGORIES:General
END:VEVENT
BEGIN:VEVENT
UID:72-2
LOCATION:Kaløvigskolens Gymnastiksal Sanatorievej 38  Skødstrup  8541
SUMMARY:Krop & Balance træning for voksne
DTSTAMP:20150319T190000
ORGANIZER;CN=Kristian Helkjær Lassen:MAILTO:kristian.helkjaer.lassen@gmail.com
DTSTART;TZID=Europe/Copenhagen:20150319T190000
DTEND;TZID=Europe/Copenhagen:20150319T200000
URL;VALUE=URI:http://www.studstrup.dk/2014/08/06/ny-saeson-for-krop-balance-og-for-ryghold-for-herrer-i-kaloevig-hallen-til-september/
DESCRIPTION: http://www.studstrup.dk/2014/08/06/ny-saeson-for-krop-balance-og-for-ryghold-for-herrer-i-kaloevig-hallen-til-september/
CATEGORIES:General
END:VEVENT
END:VCALENDAR